BEGIN:VCALENDAR
VERSION:2.0
PRODID:-//Dojang Jin Hwa - ECPv6.15.18//NONSGML v1.0//EN
CALSCALE:GREGORIAN
METHOD:PUBLISH
X-ORIGINAL-URL:https://jinhwa.nl
X-WR-CALDESC:Evenementen voor Dojang Jin Hwa
REFRESH-INTERVAL;VALUE=DURATION:PT1H
X-Robots-Tag:noindex
X-PUBLISHED-TTL:PT1H
BEGIN:VTIMEZONE
TZID:Europe/Amsterdam
BEGIN:DAYLIGHT
TZOFFSETFROM:+0100
TZOFFSETTO:+0200
TZNAME:CEST
DTSTART:20250330T010000
END:DAYLIGHT
BEGIN:STANDARD
TZOFFSETFROM:+0200
TZOFFSETTO:+0100
TZNAME:CET
DTSTART:20251026T010000
END:STANDARD
BEGIN:DAYLIGHT
TZOFFSETFROM:+0100
TZOFFSETTO:+0200
TZNAME:CEST
DTSTART:20260329T010000
END:DAYLIGHT
BEGIN:STANDARD
TZOFFSETFROM:+0200
TZOFFSETTO:+0100
TZNAME:CET
DTSTART:20261025T010000
END:STANDARD
BEGIN:DAYLIGHT
TZOFFSETFROM:+0100
TZOFFSETTO:+0200
TZNAME:CEST
DTSTART:20270328T010000
END:DAYLIGHT
BEGIN:STANDARD
TZOFFSETFROM:+0200
TZOFFSETTO:+0100
TZNAME:CET
DTSTART:20271031T010000
END:STANDARD
END:VTIMEZONE
BEGIN:VEVENT
DTSTART;TZID=Europe/Amsterdam:20260405T123000
DTEND;TZID=Europe/Amsterdam:20260405T143000
DTSTAMP:20260419T144848
CREATED:20251217T113347Z
LAST-MODIFIED:20260317T115443Z
UID:1844-1775392200-1775399400@jinhwa.nl
SUMMARY:International Training
DESCRIPTION:Dojang\nHal 1
URL:https://jinhwa.nl/event/international-training/
LOCATION:Velo\, Noordweg 26\, Wateringen\, 2291 EE
CATEGORIES:Overige
ATTACH;FMTTYPE=image/jpeg:https://jinhwa.nl/wp-content/uploads/2024/12/event_3-WFiWjA.tmp_-GtvkCV.tmp_.jpg
END:VEVENT
BEGIN:VEVENT
DTSTART;TZID=Europe/Amsterdam:20260405T100000
DTEND;TZID=Europe/Amsterdam:20260405T140000
DTSTAMP:20260419T144848
CREATED:20251117T095211Z
LAST-MODIFIED:20251117T095211Z
UID:1682-1775383200-1775397600@jinhwa.nl
SUMMARY:International training / Kigong
DESCRIPTION:Dojang
URL:https://jinhwa.nl/event/international-training-kigong/
LOCATION:Velo hal 2\, Noordweg 26\, Wateringen\, 2291 EE\, Nederland
CATEGORIES:Overige
ATTACH;FMTTYPE=image/jpeg:https://jinhwa.nl/wp-content/uploads/2024/12/event_3-WFiWjA.tmp_-GtvkCV.tmp_.jpg
END:VEVENT
BEGIN:VEVENT
DTSTART;TZID=Europe/Amsterdam:20260405T100000
DTEND;TZID=Europe/Amsterdam:20260405T120000
DTSTAMP:20260419T144848
CREATED:20251217T113347Z
LAST-MODIFIED:20260317T115443Z
UID:1843-1775383200-1775390400@jinhwa.nl
SUMMARY:International Kigong
DESCRIPTION:Dojang
URL:https://jinhwa.nl/event/international-kigong/
LOCATION:Velo\, Noordweg 26\, Wateringen\, 2291 EE
CATEGORIES:Overige
ATTACH;FMTTYPE=image/jpeg:https://jinhwa.nl/wp-content/uploads/2024/12/event_3-WFiWjA.tmp_-GtvkCV.tmp_.jpg
END:VEVENT
BEGIN:VEVENT
DTSTART;TZID=Europe/Amsterdam:20260404T090000
DTEND;TZID=Europe/Amsterdam:20260404T180000
DTSTAMP:20260419T144848
CREATED:20251217T113347Z
LAST-MODIFIED:20260317T115443Z
UID:1842-1775293200-1775325600@jinhwa.nl
SUMMARY:Region 24 championships
DESCRIPTION:Hal 1/oud\nWil je inschrijven?  klik hier
URL:https://jinhwa.nl/event/region-24-championships/
LOCATION:Velo\, Noordweg 26\, Wateringen\, 2291 EE
CATEGORIES:Overige
ATTACH;FMTTYPE=image/jpeg:https://jinhwa.nl/wp-content/uploads/2025/02/event_19-april-Kow0Sk.tmp_-AIWT5o.tmp_.jpg
END:VEVENT
BEGIN:VEVENT
DTSTART;TZID=Europe/Amsterdam:20260403T183000
DTEND;TZID=Europe/Amsterdam:20260403T220000
DTSTAMP:20260419T144848
CREATED:20251217T113347Z
LAST-MODIFIED:20260317T115443Z
UID:1841-1775241000-1775253600@jinhwa.nl
SUMMARY:BB voorjaar
DESCRIPTION:Hal 1 / oud
URL:https://jinhwa.nl/event/bb-voorjaar-2/
LOCATION:Velo\, Noordweg 26\, Wateringen\, 2291 EE
CATEGORIES:Overige
ATTACH;FMTTYPE=image/jpeg:https://jinhwa.nl/wp-content/uploads/2024/12/event_bb2-B5XxWg.tmp_-f68l1w.tmp_.jpg
END:VEVENT
BEGIN:VEVENT
DTSTART;TZID=Europe/Amsterdam:20260403T183000
DTEND;TZID=Europe/Amsterdam:20260403T220000
DTSTAMP:20260419T144848
CREATED:20251117T095211Z
LAST-MODIFIED:20251117T095211Z
UID:1681-1775241000-1775253600@jinhwa.nl
SUMMARY:BB voorjaar
DESCRIPTION:Hal 1 / oud
URL:https://jinhwa.nl/event/bb-voorjaar/
LOCATION:Velo hal 2\, Noordweg 26\, Wateringen\, 2291 EE\, Nederland
CATEGORIES:Overige
ATTACH;FMTTYPE=image/jpeg:https://jinhwa.nl/wp-content/uploads/2024/12/event_bb2-B5XxWg.tmp_-f68l1w.tmp_.jpg
END:VEVENT
BEGIN:VEVENT
DTSTART;TZID=Europe/Amsterdam:20260321T140000
DTEND;TZID=Europe/Amsterdam:20260321T170000
DTSTAMP:20260419T144848
CREATED:20251217T113347Z
LAST-MODIFIED:20260317T115443Z
UID:1840-1774101600-1774112400@jinhwa.nl
SUMMARY:Pretest - voorjaar
DESCRIPTION:Hal 2
URL:https://jinhwa.nl/event/pretest-voorjaar-2/
LOCATION:Velo\, Noordweg 26\, Wateringen\, 2291 EE
CATEGORIES:Overige
ATTACH;FMTTYPE=image/jpeg:https://jinhwa.nl/wp-content/uploads/2024/12/event_bb-VCaoGL.tmp_-C0WynS.tmp_.jpg
END:VEVENT
BEGIN:VEVENT
DTSTART;TZID=Europe/Amsterdam:20260321T140000
DTEND;TZID=Europe/Amsterdam:20260321T170000
DTSTAMP:20260419T144848
CREATED:20251117T095211Z
LAST-MODIFIED:20251117T095211Z
UID:1680-1774101600-1774112400@jinhwa.nl
SUMMARY:Pretest - voorjaar
DESCRIPTION:Hal 2
URL:https://jinhwa.nl/event/pretest-voorjaar/
LOCATION:Velo hal 2\, Noordweg 26\, Wateringen\, 2291 EE\, Nederland
CATEGORIES:Overige
ATTACH;FMTTYPE=image/jpeg:https://jinhwa.nl/wp-content/uploads/2024/12/event_bb-VCaoGL.tmp_-C0WynS.tmp_.jpg
END:VEVENT
BEGIN:VEVENT
DTSTART;TZID=Europe/Amsterdam:20260321T093000
DTEND;TZID=Europe/Amsterdam:20260321T133000
DTSTAMP:20260419T144848
CREATED:20251217T113347Z
LAST-MODIFIED:20260317T115443Z
UID:1838-1774085400-1774099800@jinhwa.nl
SUMMARY:Dantraining - 1/4
DESCRIPTION:Leden BB/CDB\nHal 2
URL:https://jinhwa.nl/event/dantraining-1-4-2/
LOCATION:Velo\, Noordweg 26\, Wateringen\, 2291 EE
CATEGORIES:Overige
ATTACH;FMTTYPE=image/jpeg:https://jinhwa.nl/wp-content/uploads/2025/01/header1-scaled-uQGj0m.tmp_-X2rIXR.tmp_.jpg
END:VEVENT
BEGIN:VEVENT
DTSTART;TZID=Europe/Amsterdam:20260321T093000
DTEND;TZID=Europe/Amsterdam:20260321T133000
DTSTAMP:20260419T144848
CREATED:20251117T095211Z
LAST-MODIFIED:20251117T095211Z
UID:1679-1774085400-1774099800@jinhwa.nl
SUMMARY:Dantraining - 1/4
DESCRIPTION:Leden BB/CDB\nHal 2
URL:https://jinhwa.nl/event/dantraining-1-4/
LOCATION:Velo hal 2\, Noordweg 26\, Wateringen\, 2291 EE\, Nederland
CATEGORIES:Overige
ATTACH;FMTTYPE=image/jpeg:https://jinhwa.nl/wp-content/uploads/2025/01/header1-scaled-uQGj0m.tmp_-X2rIXR.tmp_.jpg
END:VEVENT
END:VCALENDAR